BEGIN:VCALENDAR
VERSION:2.0
PRODID:SchoolNow
CALSCALE:GREGORIAN
BEGIN:VEVENT
UID:a335ef7a-81da-11f0-b77b-022e31aca1f7
DTSTAMP:20250825T174048Z
SUMMARY:PTWCD Board Meeting - May 2026
LOCATION:Parkland City Hall\, 6600 University Drive\, Parkland Florida
URL;VALUE=URI:https://www.pinetreewcd.com/calendar/8541521/ptwcd-board-meet
 ing-may-2026
DTSTART:20260514T220000Z
DTEND:20260514T230000Z
END:VEVENT
END:VCALENDAR
